BEGIN:VCALENDAR
VERSION:2.0
PRODID:-//ChamberMaster//Event Calendar 2.0//EN
METHOD:PUBLISH
X-PUBLISHED-TTL:P3D
REFRESH-INTERVAL:P3D
CALSCALE:GREGORIAN
BEGIN:VEVENT
DTSTART:20190803T150000Z
DTEND:20190803T200000Z
X-MICROSOFT-CDO-ALLDAYEVENT:FALSE
SUMMARY:BACK TO SCHOOL FUN DAY EVENT
DESCRIPTION:The Bluffton Area Community Association is hosting its 9th Annual Back  To- School Fun Day" for our families in our community .  It will be held Saturday\, August 3rd\, 2019  from 11:00am until 4:00pm AT OSCAR FRAZIER PARK\, 77 SCHULTS ROAD\, BLUFFTON\, SC 29910\n\nTHERE WILL BE : FREE DENTAL SCREENING\, Fun for the entire family with  face painting\, putt putt\, games\, waterslide bounce houses\, inflatables\, giveaways \, food and much much more.. Everything is FREE!!!\n\nWORKSHOPS for parents/guardians who want to receive a FREE backpacks filled with school supplies for their child(ren).  A must attend 1:00PM  session or 2:00pm session:   \n\nFor further information or if you would like to make a monetary donation or give school supplies or backpack OR TO VOLUNTEER call Sharon Brown @843.368.6755 or Lenora Grayson@ 843.684.9230
X-ALT-DESC;FMTTYPE=text/html:<span style="font-family:times new roman"><span style="font-size:20px">The Bluffton Area Community Association is hosting its 9th Annual&nbsp\;Back&nbsp\;&ndash\;To- School Fun Day&rdquo\; for our families in our community .&nbsp\; It will be held Saturday\, August 3rd\,&nbsp\;2019&nbsp\; from 11:00am until 4:00pm&nbsp\;</span><span style="background-color:rgb(255\, 255\, 255)\; color:rgb(51\, 51\, 51)\; font-size:20px"><strong>A</strong></span><strong>T OSCAR FRAZIER PARK\, 77 SCHULTS ROAD\, BLUFFTON\, SC 29910</strong><br />\n<span style="font-size:20px"><strong><u>THERE WILL BE : FREE DENTAL SCREENING\,&nbsp\;</u></strong>Fun for the entire family with &nbsp\;face painting\, putt putt\, games\, waterslide bounce houses\, inflatables\, giveaways \, food and much much more.. Everything is FREE!!!<br />\n<span style="background-color:#ffffff"><span style="color:#500050">WORKSHOPS for parents/guardians who want&nbsp\;to&nbsp\;receive a FREE backpacks filled with school supplies for their child(ren).&nbsp\; A&nbsp\;<strong><em><u>must attend</u></em></strong>&nbsp\;1:00PM &nbsp\;session or 2:00pm session: &nbsp\;&nbsp\;</span></span><br />\nFor further information or if you would like&nbsp\;to&nbsp\;make a monetary donation or give school supplies or backpack OR&nbsp\;TO&nbsp\;VOLUNTEER call Sharon Brown @843.368.6755 or Lenora Grayson@ 843.684.9230<br />\n&nbsp\;</span></span>\n<div>&nbsp\;</div>\n
LOCATION:OSCAR FRAZIER PARK 77 SCHULTS ROAD BLUFFTON\, SC 29910
UID:e.1592.12854
SEQUENCE:3
DTSTAMP:20260421T003214Z
URL:https://blufftonchamberofcommerce.org/events/details/back-to-school-fun-day-event-12854
END:VEVENT

END:VCALENDAR
