BEGIN:VCALENDAR
VERSION:2.0
PRODID:-//ChamberMaster//Event Calendar 2.0//EN
METHOD:PUBLISH
X-PUBLISHED-TTL:P3D
REFRESH-INTERVAL:P3D
CALSCALE:GREGORIAN
BEGIN:VEVENT
DTSTART:20210810T210000Z
DTEND:20210810T230000Z
X-MICROSOFT-CDO-ALLDAYEVENT:FALSE
SUMMARY:Business After Hours at Bee Town Mead & Cider - August 2021
DESCRIPTION:Do you have just a little bit of time to spare to invest in yourself?  10 minutes? 30 minutes? An hour?  Pop in after work and join us for Business After Hours on Tuesday\, August 10\, 2021.  We can't wait to network with you!\n\n\n\nWhat is Business After Hours?  It is a great opportunity for you to stop by to mix and mingle with fellow business leaders in the Greater Bluffton Community.\n\n\n\n*Please note: Attendees will be responsible for purchasing his or her own beverages*
X-ALT-DESC;FMTTYPE=text/html:Do you have just a little bit of time to spare to invest in yourself?&nbsp\; 10 minutes? 30 minutes? An hour?&nbsp\; Pop in after work and join us for Business After Hours on Tuesday\, August 10\, 2021.&nbsp\; We can&#39\;t wait to network with you!<br />\n<br />\nWhat is Business After Hours?&nbsp\; It is a great opportunity for you to stop by to mix and mingle with fellow business leaders in the Greater Bluffton Community.<br />\n<br />\n<em><span style="color:#FF0000\;">*Please note: Attendees will be responsible for purchasing his or her own beverages*</span></em>
LOCATION:Bee Town Mead & Cider 1230 B May River Road Bluffton\, SC 29910
UID:e.1592.15016
SEQUENCE:3
DTSTAMP:20260423T105418Z
URL:https://blufftonchamberofcommerce.org/events/details/business-after-hours-at-bee-town-mead-cider-august-2021-15016
END:VEVENT

END:VCALENDAR
