BEGIN:VCALENDAR
VERSION:2.0
PRODID:-//ChamberMaster//Event Calendar 2.0//EN
METHOD:PUBLISH
X-PUBLISHED-TTL:P3D
REFRESH-INTERVAL:P3D
CALSCALE:GREGORIAN
BEGIN:VEVENT
DTSTART;VALUE=DATE:20230916
DTEND;VALUE=DATE:20230917
TRANSP:TRANSPARENT
X-MICROSOFT-CDO-ALLDAYEVENT:TRUE
SUMMARY:Fusion SUP Intensive - A day retreat/immersion event in SUP (stand up paddle boarding)\, adventure\, active living and wellness
DESCRIPTION:Join us for this Day Retreat in Bluffton - A full-day immersion event in SUP (paddle boarding)\, adventure\, active living\, and wellness. Complete with fun and play\, learning and education\, practice\, empowerment\, community and more right in the Lowcountry! \n\nThis event will also give you a glimpse into what our destination Fusion SUP Retreats in Costa Rica entail!\n\n \n\nHere's idea of what we will be doing:\n\n\n	Sunrise SUP\n	SUP Yoga class\n	SUP Fitness class\n	SUP stroke technique drills session\n	Footwork and turn skills lesson\n	Beach and ocean paddling\, SUP surfing (weather and tide dependent) session\n	Land strength training and corrective exercise session for paddlers\n	Mobility and stretching session\n	Wellness talk on topics including:\n	nutrition and fueling\,\n	hydration\,\n	rest-based living\,\n	metabolism\,\n	balance and moderation\n	mindfulness\,\n	mindset..\n	2 meals and 2 snack breaks\n	Take home materials to help you apply and implement what we cover into your life.\n\n\n \n\nWho this is for?\n\n\n	Open to BOTH new and seasoned paddlers\n	Anyone who enjoys/does stand up paddle boarding\n	Paddlers looking for an empowering\, fun\, growth and wellness oriented event\n	Newbies to paddling\n\n\n \n\nWhen?\n\n\n	Saturday\, September 16th\n\n\nTime:\n\n\n	Sunrise to sunset. 6 am to 8 pm\n\n\n \n\nCost: $299 (price increases to $359 Sunday\, September 10th)\n\n \n\nSign up:\n\n\n	to reserve your spot follow the event link to our scheduling app under 'workshops'.\n\n\nQuestions?\n\n\n	email Rachel at standandpaddlesup@gmail.com
X-ALT-DESC;FMTTYPE=text/html:<p>Join us for this Day Retreat in Bluffton - A full-day immersion event in SUP (paddle boarding)\, adventure\, active living\, and wellness. Complete with fun and play\, learning and education\, practice\, empowerment\, community and more right in the Lowcountry!&nbsp\;</p>\n\n<p>This event will also give you a glimpse into what our destination Fusion SUP Retreats in Costa Rica entail!</p>\n\n<p>&nbsp\;</p>\n\n<p>Here&#39\;s idea of what&nbsp\;we will be doing:</p>\n\n<ul>\n	<li>Sunrise SUP</li>\n	<li>SUP Yoga class</li>\n	<li>SUP Fitness class</li>\n	<li>SUP stroke technique drills session</li>\n	<li>Footwork and turn skills lesson</li>\n	<li>Beach and ocean paddling\, SUP surfing (weather and tide dependent) session</li>\n	<li>Land strength training and corrective exercise session for paddlers</li>\n	<li>Mobility and stretching session</li>\n	<li>Wellness talk on topics including:</li>\n	<li>nutrition and fueling\,</li>\n	<li>hydration\,</li>\n	<li>rest-based living\,</li>\n	<li>metabolism\,</li>\n	<li>balance and moderation</li>\n	<li>mindfulness\,</li>\n	<li>mindset..</li>\n	<li>2 meals and 2 snack breaks</li>\n	<li>Take home materials to help you apply and implement what we cover into your life.</li>\n</ul>\n\n<p>&nbsp\;</p>\n\n<p>Who this is for?</p>\n\n<ul>\n	<li>Open to BOTH new and seasoned paddlers</li>\n	<li>Anyone who enjoys/does stand up paddle boarding</li>\n	<li>Paddlers looking for an empowering\, fun\, growth and wellness oriented event</li>\n	<li>Newbies to paddling</li>\n</ul>\n\n<p>&nbsp\;</p>\n\n<p>When?</p>\n\n<ul>\n	<li>Saturday\, September 16th</li>\n</ul>\n\n<p>Time:</p>\n\n<ul>\n	<li>Sunrise to sunset. 6 am to 8 pm</li>\n</ul>\n\n<p>&nbsp\;</p>\n\n<p>Cost: $299 (price increases to $359 Sunday\, September 10th)</p>\n\n<p>&nbsp\;</p>\n\n<p>Sign up:</p>\n\n<ul>\n	<li>to reserve your spot follow the event link to our scheduling app under &#39\;workshops&#39\;.</li>\n</ul>\n\n<p>Questions?</p>\n\n<ul>\n	<li>email Rachel at standandpaddlesup@gmail.com</li>\n</ul>\n
LOCATION:Stand and Paddle\, 75 Wharf Street (Bluffton Oyster Factory Park Dock)
UID:e.1592.15841
SEQUENCE:3
DTSTAMP:20260421T015356Z
URL:https://blufftonchamberofcommerce.org/events/details/fusion-sup-intensive-15841
END:VEVENT

END:VCALENDAR
