BEGIN:VCALENDAR
VERSION:2.0
PRODID:-//ChamberMaster//Event Calendar 2.0//EN
METHOD:PUBLISH
X-PUBLISHED-TTL:P3D
REFRESH-INTERVAL:P3D
CALSCALE:GREGORIAN
BEGIN:VEVENT
DTSTART:20230918T220000Z
DTEND:20231110T020000Z
X-MICROSOFT-CDO-ALLDAYEVENT:FALSE
SUMMARY:Liberty Tax Basic 8 - Week Tax Class
DESCRIPTION:Learn the Fundamentals of basic tax preparation\, including self-employment\, investments\, and rental income in a relaxed friendly environment. \n\n\n\nClasses are held every Monday and Wednesday from 6 PM - 9 PM beginning September 18 - November 9.
X-ALT-DESC;FMTTYPE=text/html:Learn the Fundamentals of basic tax preparation\, including self-employment\, investments\, and rental income in a relaxed friendly environment.&nbsp\;<br />\n<br />\nClasses are held every Monday and Wednesday from 6 PM - 9 PM beginning September 18 - November 9.&nbsp\;&nbsp\;&nbsp\;&nbsp\;&nbsp\;&nbsp\;&nbsp\;&nbsp\;&nbsp\;&nbsp\;&nbsp\;&nbsp\;&nbsp\;&nbsp\;&nbsp\;&nbsp\;&nbsp\;&nbsp\;&nbsp\;&nbsp\;
LOCATION:Liberty Tax Service in Bluffton 1008 Fording Island Road\, Suite I Bluffton\, SC 29910
UID:e.1592.15892
SEQUENCE:3
DTSTAMP:20260425T171840Z
URL:https://blufftonchamberofcommerce.org/events/details/liberty-tax-basic-8-week-tax-class-15892
END:VEVENT

END:VCALENDAR
