BEGIN:VCALENDAR
VERSION:2.0
PRODID:-//ChamberMaster//Event Calendar 2.0//EN
METHOD:PUBLISH
X-PUBLISHED-TTL:P3D
REFRESH-INTERVAL:P3D
CALSCALE:GREGORIAN
BEGIN:VEVENT
DTSTART:20260425T210000Z
DTEND:20260426T010000Z
X-MICROSOFT-CDO-ALLDAYEVENT:FALSE
SUMMARY:Libraries for Kids 5th Annual World Book Day
DESCRIPTION:Please join Libraries for Kids for their 5th Annual Charity Fundraiser. Be prepared to be transported to Africa through various mediums during this event. \n\n\n\nAn evening filled with wonderful food\, fun\, and fellowship!
X-ALT-DESC;FMTTYPE=text/html:Please join Libraries for Kids for their 5th Annual Charity Fundraiser. Be prepared to be transported to Africa through various mediums during this event.&nbsp\;<br />\n<br />\nAn evening filled with wonderful food\, fun\, and fellowship!&nbsp\;<br />\n<br />\n&nbsp\;
LOCATION:Port Royal Sound Maritime 310 Okatie Highway Okatie\, SC
UID:e.1592.19228
SEQUENCE:3
DTSTAMP:20260423T043100Z
URL:https://blufftonchamberofcommerce.org/events/details/libraries-for-kids-5th-annual-world-book-day-19228
END:VEVENT

END:VCALENDAR
