BEGIN:VCALENDAR
VERSION:2.0
PRODID:-//ChamberMaster//Event Calendar 2.0//EN
METHOD:PUBLISH
X-PUBLISHED-TTL:P3D
REFRESH-INTERVAL:P3D
CALSCALE:GREGORIAN
BEGIN:VEVENT
DTSTART:20210408T150000Z
DTEND:20210408T160000Z
X-MICROSOFT-CDO-ALLDAYEVENT:FALSE
SUMMARY:Live Member Spotlight - Bee Town Mead & Cider - April 2021
DESCRIPTION:Join us virtually on Facebook Live on Thursday\, April 8\, 2021\, at 11:00 AM for a Member Spotlight with Bee Town Mead & Cider!  This is a great way to learn more about the businesses in the Greater Bluffton community.
X-ALT-DESC;FMTTYPE=text/html:Join us virtually on Facebook Live on Thursday\, April 8\, 2021\, at 11:00 AM for a Member Spotlight with <a href="http://blufftonchamberofcommerce.org/list/member/bee-town-mead-cider-802">Bee Town Mead &amp\; Cider!</a>&nbsp\; This is a great way to learn more about the businesses in the Greater Bluffton community.
LOCATION:Facebook Live
UID:e.1592.14946
SEQUENCE:3
DTSTAMP:20260422T071908Z
URL:https://blufftonchamberofcommerce.org/events/details/live-member-spotlight-bee-town-mead-cider-april-2021-14946
END:VEVENT

END:VCALENDAR
