BEGIN:VCALENDAR
VERSION:2.0
PRODID:-//ChamberMaster//Event Calendar 2.0//EN
METHOD:PUBLISH
X-PUBLISHED-TTL:P3D
REFRESH-INTERVAL:P3D
CALSCALE:GREGORIAN
BEGIN:VEVENT
DTSTART;VALUE=DATE:20260502
DTEND;VALUE=DATE:20260503
TRANSP:TRANSPARENT
X-MICROSOFT-CDO-ALLDAYEVENT:TRUE
SUMMARY:Pasta Dinner 10-year Celebration
DESCRIPTION:Lowcountry Hope House\n\nPasta Dinner Fundraiser\,10 year Celebration and SCARR certification\n\nPasta Dinner includes pasta\, salad\, bread\, dessert and temonade
X-ALT-DESC;FMTTYPE=text/html:Lowcountry Hope House<br />\nPasta Dinner Fundraiser\,10 year Celebration and SCARR certification<br />\nPasta Dinner includes pasta\, salad\, bread\, dessert and temonade
LOCATION:St. John's Lutheran Church 157 Lady's Island Dr. Beaufort\, SC 29907
UID:e.1592.20339
SEQUENCE:3
DTSTAMP:20260421T065227Z
URL:https://blufftonchamberofcommerce.org/events/details/pasta-dinner-10-year-celebration-20339
END:VEVENT

END:VCALENDAR
