BEGIN:VCALENDAR
VERSION:2.0
PRODID:-//ChamberMaster//Event Calendar 2.0//EN
METHOD:PUBLISH
X-PUBLISHED-TTL:P3D
REFRESH-INTERVAL:P3D
CALSCALE:GREGORIAN
BEGIN:VEVENT
DTSTART:20170614T160000Z
DTEND:20170614T170000Z
X-MICROSOFT-CDO-ALLDAYEVENT:FALSE
SUMMARY:Reptiles and Amphibians of the Lowcountry
DESCRIPTION:Alligators\, snakes\, and turtles oh my! Reptiles are an exciting and important part of our ecosystem. Join us on Wednesday\, June 14 to take a closer look at the intriguing characteristics of local reptiles and learn how to respectfully and safely interact with wild reptiles. Decipher the difference between reptiles and amphibians and learn how amphibians can tell us about the health of our ecosystem. We hope to see you here at the Morris Center!
X-ALT-DESC;FMTTYPE=text/html:Alligators\, snakes\, and turtles oh my! Reptiles are an exciting and important part of our ecosystem. Join us on Wednesday\, June 14 to take a closer look at the intriguing characteristics of local reptiles and learn how to respectfully and safely interact with wild reptiles. Decipher the difference between reptiles and amphibians and learn how amphibians can tell us about the health of our ecosystem. We hope to see you here at the Morris Center!
LOCATION:The Morris Center for Lowcountry Heritage 10782 S Jacob Smart Blvd\, Ridgeland\, SC 29936
UID:e.1592.7451
SEQUENCE:3
DTSTAMP:20260420T204203Z
URL:https://blufftonchamberofcommerce.org/events/details/reptiles-and-amphibians-of-the-lowcountry-7451
END:VEVENT

END:VCALENDAR
