BEGIN:VCALENDAR
VERSION:2.0
PRODID:-//ChamberMaster//Event Calendar 2.0//EN
METHOD:PUBLISH
X-PUBLISHED-TTL:P3D
REFRESH-INTERVAL:P3D
CALSCALE:GREGORIAN
BEGIN:VEVENT
DTSTART:20260512T193000Z
DTEND:20260512T200000Z
X-MICROSOFT-CDO-ALLDAYEVENT:FALSE
SUMMARY:Ribbon Cutting
DESCRIPTION:South Atlantic Bank wants to invite you to come join us for our Ribbon Cutting Event to Relaunch our Bluffton Branch.  May 12th at 3:30 pm.
X-ALT-DESC;FMTTYPE=text/html:South Atlantic Bank wants to invite you to come join us for our Ribbon Cutting Event to Relaunch our Bluffton Branch.&nbsp\; May 12th at 3:30 pm.&nbsp\;
LOCATION:1 Sheridan Park Circle Bluffton\, SC 29910
UID:e.1592.20340
SEQUENCE:3
DTSTAMP:20260424T142749Z
URL:https://blufftonchamberofcommerce.org/events/details/ribbon-cutting-20340
END:VEVENT

END:VCALENDAR
