BEGIN:VCALENDAR
VERSION:2.0
PRODID:-//ChamberMaster//Event Calendar 2.0//EN
METHOD:PUBLISH
X-PUBLISHED-TTL:P3D
REFRESH-INTERVAL:P3D
CALSCALE:GREGORIAN
BEGIN:VEVENT
DTSTART;VALUE=DATE:20240801
DTEND;VALUE=DATE:20240822
TRANSP:TRANSPARENT
X-MICROSOFT-CDO-ALLDAYEVENT:TRUE
SUMMARY:Teachers' Classroom Supply Drive
DESCRIPTION:Through partnerships and collaboration\, Bluffton Self Help is making a lasting impact on our community. On average\, teachers spend $750 out of pocket on school supplies\, at the start of each school year. 30% of teachers will spend $1\,000 or more. Last year\, we were able to collect more than 7\,500 essential school supplies for teachers' classrooms. This year\, we are hoping to continue the momentum and be able to support our teachers\, students\, and community. Together\, we are supporting teachers by allowing them to create the best educational experience possible.
X-ALT-DESC;FMTTYPE=text/html:Through partnerships and collaboration\, Bluffton Self Help is making a lasting impact on our community. On average\, teachers spend $750 out of pocket on school supplies\, at the start of each school year. 30% of teachers will spend $1\,000 or more. Last year\, we were able to collect more than 7\,500 essential school supplies for teachers&#39\; classrooms. This year\, we are hoping to continue the momentum and be able to support our teachers\, students\, and community. Together\, we are supporting teachers by allowing them to create the best educational experience possible.
LOCATION:Bluffton Self Help 39 Sheridan Park Circle\, Unit 10 Bluffton\, SC 29910
UID:e.1592.17966
SEQUENCE:3
DTSTAMP:20260422T083742Z
URL:https://blufftonchamberofcommerce.org/events/details/teachers-classroom-supply-drive-08-01-2024-17966
END:VEVENT

END:VCALENDAR
