BEGIN:VCALENDAR
VERSION:2.0
PRODID:-//ChamberMaster//Event Calendar 2.0//EN
METHOD:PUBLISH
X-PUBLISHED-TTL:P3D
REFRESH-INTERVAL:P3D
CALSCALE:GREGORIAN
BEGIN:VEVENT
DTSTART:20241112T233000Z
DTEND:20241113T010000Z
X-MICROSOFT-CDO-ALLDAYEVENT:FALSE
SUMMARY:The Psychology of Retirement Movie Premier in Bluffton
DESCRIPTION:JOIN US FOR A SPECIAL MOVIE PREMIER As an executive producer of the new film "The Psychology of Retirement\," we invite you to join us for its exclusive premiere in Bluffton. Dive into the emotional and psychological aspects of retirement\, featuring insights from industry professionals and real-life retirees sharing their journeys. Registration is Required Sign up today by contacting our office: EMAIL: info@FFFGonline.com PHONE: 843.427.3300 OFFICE: 7 Carroll Court Bluffton\, SC 29910
X-ALT-DESC;FMTTYPE=text/html:JOIN US FOR A SPECIAL MOVIE PREMIER As an executive producer of the new film &ldquo\;The Psychology of Retirement\,&rdquo\; we invite you to join us for its exclusive premiere in Bluffton. Dive into the emotional and psychological aspects of retirement\, featuring insights from industry professionals and real-life retirees sharing their journeys. Registration is Required Sign up today by contacting our office: EMAIL: info@FFFGonline.com PHONE: 843.427.3300 OFFICE: 7 Carroll Court Bluffton\, SC 29910
LOCATION:Cinemark Bluffton 106 Buckwalter Pkwy. Bluffton\, SC 29910
UID:e.1592.18420
SEQUENCE:3
DTSTAMP:20260422T070352Z
URL:https://blufftonchamberofcommerce.org/events/details/the-psychology-of-retirement-movie-premier-in-bluffton-18420
END:VEVENT

END:VCALENDAR
