BEGIN:VCALENDAR
VERSION:2.0
PRODID:-//ChamberMaster//Event Calendar 2.0//EN
METHOD:PUBLISH
X-PUBLISHED-TTL:P3D
REFRESH-INTERVAL:P3D
CALSCALE:GREGORIAN
BEGIN:VEVENT
DTSTART:20181030T213000Z
DTEND:20181031T000000Z
X-MICROSOFT-CDO-ALLDAYEVENT:FALSE
SUMMARY:Trick or Treat for Business-Old Town Dispensary
DESCRIPTION:Join us Downtown for a Pre-Treat or Treat party with local businesses and community partners.\n\nHosted by the Old Town Dispensary in downtown Bluffton.\n\nSponsored by the Greater Bluffton Chamber and the HH Area Home Builders Association.\n\n**Members may put up a table to present goods and services. Space is very limited. First come first serve. Just $25 donation fee for any association or chamber members.\n\nNew members in the past 3 months may display for free.\n\nDiscounted drinks and some free appetizers. Door prizes. Halloween treats!\n\nBring your business cards to display and share.
X-ALT-DESC;FMTTYPE=text/html:Join us Downtown for a Pre-Treat or Treat party with local businesses and community partners.<br />\nHosted by the Old Town Dispensary in downtown Bluffton.<br />\nSponsored by the Greater Bluffton Chamber and the HH Area Home Builders Association.<br />\n**Members may put up a table to present goods and services. Space is very limited. First come first serve. Just $25 donation fee for any association or chamber members.<br />\nNew members in the past 3 months may display for free.<br />\nDiscounted drinks and some free appetizers. Door prizes. Halloween treats!<br />\nBring your business cards to display and share.
LOCATION:Old Town Dispensary Bluffton\, SC
UID:e.1592.10737
SEQUENCE:3
DTSTAMP:20260423T130711Z
URL:https://blufftonchamberofcommerce.org/events/details/trick-or-treat-for-business-old-town-dispensary-10737
END:VEVENT

END:VCALENDAR
