BEGIN:VCALENDAR
VERSION:2.0
PRODID:-//ChamberMaster//Event Calendar 2.0//EN
METHOD:PUBLISH
X-PUBLISHED-TTL:P3D
REFRESH-INTERVAL:P3D
CALSCALE:GREGORIAN
BEGIN:VEVENT
DTSTART:20230510T200000Z
DTEND:20230510T210000Z
X-MICROSOFT-CDO-ALLDAYEVENT:FALSE
SUMMARY:Yoga at Root and Bloom Market
DESCRIPTION:Join us at Martin Family Park for a 60 minute family friendly\, all levels yoga class during the Root and Bloom Market. Class is open to all ages and all levels. We will be offering a yoga class throughout the Spring and the Fall during the 2nd Wellness Wednesday of the month. Class is free but donations for the instructor will graciously be accepted. Please bring a mat\, water\, and bug spray!
X-ALT-DESC;FMTTYPE=text/html:Join us at Martin Family Park for a 60 minute family friendly\, all levels yoga class during the Root and Bloom Market. Class is open to all ages and all levels. We will be offering a yoga class throughout the Spring and the Fall during the 2nd Wellness Wednesday of the month. Class is free but donations for the instructor will graciously be accepted. Please bring a mat\, water\, and bug spray!
LOCATION:Martin Family Park
UID:e.1592.15775
SEQUENCE:3
DTSTAMP:20260423T160834Z
URL:https://blufftonchamberofcommerce.org/events/details/yoga-at-root-and-bloom-market-15775
END:VEVENT

END:VCALENDAR
